BEGIN:VCALENDAR
VERSION:2.0
PRODID:-//wp-events-plugin.com//7.2.3.1//EN
TZID:Europe/Berlin
X-WR-TIMEZONE:Europe/Berlin
BEGIN:VEVENT
UID:49@chor-orch-v-mb.de
DTSTART;TZID=Europe/Berlin:20230403T180000
DTEND;TZID=Europe/Berlin:20230403T210000
DTSTAMP:20230304T153803Z
URL:https://www.chor-orch-v-mb.de/events/ordentliche-mitgliederversammlung
 -mit-neuwahl-des-vorstandes/
SUMMARY:Ordentliche Mitgliederversammlung
DESCRIPTION:EINLADUNG ZUR ORDENTLICHEN HAUPTVERSAMMLUNG\n\nMontag\, den 3. 
 April 2023\, 19:00 Uhr\n\nim Gasthof Bräuwirt (Nebenzimmer)\n\n&nbsp\;\n\
 nAuch fördernde Mitglieder und Familienangehörige sind herzlich willkomm
 en!\n\nDer Versammlungsraum ist ab 18:00 geöffnet\, damit vor der Versamm
 lung kommuniziert und gegessen werden kann.\n\nEs gibt keine Neuwahlen. Da
 mit können wir bei Bedarf auch etwas später mit dem offiziellen Teil der
  Versammlung anfangen.\n\n&nbsp\;\n\nTagesordnungspunkte:\n\n 	Begrüßung
  und Rückblick auf 2022 durch den 1.Vorsitzenden Georg Sollfrank\n 	Kasse
 nbericht des Kassenwarts Thomas Daubermann\n 	Bericht der Revisoren\n 	Ent
 lastung der Vorstandschaft\n 	Rückblick und Vorschau der Dirigenten für 
 das kommende Jahr\n 	a) Chor: Julian Heyder\n 	b) Orchester: Sventha Danne
 berg\n 	Bestimmung der Revisoren\n 	Vorschau und Planung für das laufende
  Jahr\n 	Wünsche\, Anträge und Sonstiges\n\n&nbsp\;\n\nAnträge einzelne
 r Mitglieder\, die als eigener Tagesordnungspunkt verhandelt werden sollen
 \, sind spätestens 7 Tage vor der Hauptversammlung schriftlich dem Vorsta
 nd mitzuteilen.\n\nMit besten Grüßen\nGeorg Sollfrank\n\n1. Vorsitzender
 \nChor- und Orchesterverein Miesbach e.V.
CATEGORIES:Chorprobe
LOCATION:Bräuwirt Miesbach - Nebenzimmer\, Marktplatz\, Miesbach\, 83714\,
  Deutschland
X-APPLE-STRUCTURED-LOCATION;VALUE=URI;X-ADDRESS=Marktplatz\, Miesbach\, 837
 14\, Deutschland;X-APPLE-RADIUS=100;X-TITLE=Bräuwirt Miesbach - Nebenzimm
 er:geo:0,0
END:VEVENT
BEGIN:VTIMEZONE
TZID:Europe/Berlin
X-LIC-LOCATION:Europe/Berlin
BEGIN:DAYLIGHT
DTSTART:20230326T030000
TZOFFSETFROM:+0100
TZOFFSETTO:+0200
TZNAME:CEST
END:DAYLIGHT
END:VTIMEZONE
END:VCALENDAR