BEGIN:VCALENDAR
VERSION:2.0
PRODID:-//wp-events-plugin.com//7.2.3.1//EN
TZID:Europe/Berlin
X-WR-TIMEZONE:Europe/Berlin
BEGIN:VEVENT
UID:50@chor-orch-v-mb.de
DTSTART;TZID=Europe/Berlin:20220425T183000
DTEND;TZID=Europe/Berlin:20220425T210000
DTSTAMP:20220225T121721Z
URL:https://www.chor-orch-v-mb.de/events/mitgliederversammlung-mit-neuwahl
 en-des-vorstands/
SUMMARY:Mitgliederversammlung mit Neuwahlen des Vorstands
DESCRIPTION:EINLADUNG ZUR ORDENTLICHEN HAUPTVERSAMMLUNG\nMontag\, den 25. A
 pril 2022\, 19:00 Uhr\nim Gasthof Bräuwirt (Nebenzimmer)\nAuch fördernde
  Mitglieder und deren Familienangehörige sind herzlich willkommen!\nDer V
 ersammlungsraum ist ab 18:00 geöffnet\, damit vor der Versammlung kommuni
 ziert und gegessen werden kann.\nTagesordnungspunkte:\n1. Begrüßung und 
 Rückblick auf 2020 und 2021 durch den 1.Vorsitzenden Georg Sollfrank\n2. 
 Kassenbericht der Kassenwartin Gerda Lösel\n3. Bericht der Revisoren\n4. 
 Entlastung der Vorstandschaft\n5. Rückblick und Vorschau der Dirigenten f
 ür das kommende Jahr\na) Chor: Julian Heyder\nb) Orchester: Sventha Danne
 berg\n6. Neuwahl des Vorstandes nach Ablauf der Wahlperiode\na) des / der 
 1. Vorsitzenden\nb) des / der stellvertretenden Vorsitzenden\nc) des Schri
 ftführers / der Schriftführerin\nd) des Kassenwartes / der Kassenwartin\
 n7. Bestimmung der Revisoren\n8. Vorschau und Planung für das laufende Ja
 hr\n9. Wünsche\, Anträge und Sonstiges\nAnträge einzelner Mitglieder\, 
 die als eigener Tagesordnungspunkt verhandelt werden sollen\, sind spätes
 tens 7 Tage vor der Hauptversammlung schriftlich dem Vorstand mitzuteilen.
CATEGORIES:Chorprobe
LOCATION:Bräuwirt Miesbach - Nebenzimmer\, Marktplatz\, Miesbach\, 83714\,
  Deutschland
X-APPLE-STRUCTURED-LOCATION;VALUE=URI;X-ADDRESS=Marktplatz\, Miesbach\, 837
 14\, Deutschland;X-APPLE-RADIUS=100;X-TITLE=Bräuwirt Miesbach - Nebenzimm
 er:geo:0,0
END:VEVENT
BEGIN:VTIMEZONE
TZID:Europe/Berlin
X-LIC-LOCATION:Europe/Berlin
BEGIN:DAYLIGHT
DTSTART:20220327T030000
TZOFFSETFROM:+0100
TZOFFSETTO:+0200
TZNAME:CEST
END:DAYLIGHT
END:VTIMEZONE
END:VCALENDAR